BEGIN:VCALENDAR
VERSION:2.0
PRODID:-//Newport Amateur Radio Society - ECPv6.15.17.1//NONSGML v1.0//EN
CALSCALE:GREGORIAN
METHOD:PUBLISH
X-WR-CALNAME:Newport Amateur Radio Society
X-ORIGINAL-URL:https://www.gw4ezw.org.uk
X-WR-CALDESC:Events for Newport Amateur Radio Society
REFRESH-INTERVAL;VALUE=DURATION:PT1H
X-Robots-Tag:noindex
X-PUBLISHED-TTL:PT1H
BEGIN:VTIMEZONE
TZID:Europe/London
BEGIN:DAYLIGHT
TZOFFSETFROM:+0000
TZOFFSETTO:+0100
TZNAME:BST
DTSTART:20170326T010000
END:DAYLIGHT
BEGIN:STANDARD
TZOFFSETFROM:+0100
TZOFFSETTO:+0000
TZNAME:GMT
DTSTART:20171029T010000
END:STANDARD
BEGIN:DAYLIGHT
TZOFFSETFROM:+0000
TZOFFSETTO:+0100
TZNAME:BST
DTSTART:20180325T010000
END:DAYLIGHT
BEGIN:STANDARD
TZOFFSETFROM:+0100
TZOFFSETTO:+0000
TZNAME:GMT
DTSTART:20181028T010000
END:STANDARD
BEGIN:DAYLIGHT
TZOFFSETFROM:+0000
TZOFFSETTO:+0100
TZNAME:BST
DTSTART:20190331T010000
END:DAYLIGHT
BEGIN:STANDARD
TZOFFSETFROM:+0100
TZOFFSETTO:+0000
TZNAME:GMT
DTSTART:20191027T010000
END:STANDARD
END:VTIMEZONE
BEGIN:VEVENT
DTSTART;TZID=Europe/London:20180108T190000
DTEND;TZID=Europe/London:20180108T223000
DTSTAMP:20260419T224331
CREATED:20171125T135001Z
LAST-MODIFIED:20171125T135109Z
UID:2103-1515438000-1515450600@www.gw4ezw.org.uk
SUMMARY:Christmas Dinner
DESCRIPTION:Our Christmas feast is at the Beefeater – Coldra
URL:https://www.gw4ezw.org.uk/event/christmas-dinner/
LOCATION:Beefeater Coldra\, Coldra Junction\, Chepstow Road\, NP18 2NX
END:VEVENT
END:VCALENDAR