BEGIN:VCALENDAR
VERSION:2.0
PRODID:-//Newport Amateur Radio Society - ECPv6.15.17.1//NONSGML v1.0//EN
CALSCALE:GREGORIAN
METHOD:PUBLISH
X-ORIGINAL-URL:https://www.gw4ezw.org.uk
X-WR-CALDESC:Events for Newport Amateur Radio Society
REFRESH-INTERVAL;VALUE=DURATION:PT1H
X-Robots-Tag:noindex
X-PUBLISHED-TTL:PT1H
BEGIN:VTIMEZONE
TZID:Europe/London
BEGIN:DAYLIGHT
TZOFFSETFROM:+0000
TZOFFSETTO:+0100
TZNAME:BST
DTSTART:20160327T010000
END:DAYLIGHT
BEGIN:STANDARD
TZOFFSETFROM:+0100
TZOFFSETTO:+0000
TZNAME:GMT
DTSTART:20161030T010000
END:STANDARD
BEGIN:DAYLIGHT
TZOFFSETFROM:+0000
TZOFFSETTO:+0100
TZNAME:BST
DTSTART:20170326T010000
END:DAYLIGHT
BEGIN:STANDARD
TZOFFSETFROM:+0100
TZOFFSETTO:+0000
TZNAME:GMT
DTSTART:20171029T010000
END:STANDARD
BEGIN:DAYLIGHT
TZOFFSETFROM:+0000
TZOFFSETTO:+0100
TZNAME:BST
DTSTART:20180325T010000
END:DAYLIGHT
BEGIN:STANDARD
TZOFFSETFROM:+0100
TZOFFSETTO:+0000
TZNAME:GMT
DTSTART:20181028T010000
END:STANDARD
END:VTIMEZONE
BEGIN:VEVENT
DTSTART;VALUE=DATE:20171008
DTEND;VALUE=DATE:20171009
DTSTAMP:20260420T024046
CREATED:20170624T153603Z
LAST-MODIFIED:20170624T153603Z
UID:1833-1507420800-1507507199@www.gw4ezw.org.uk
SUMMARY:Welsh Radio Rally 2017
DESCRIPTION:The “Welsh Radio Rally 2017” will be held on Sunday 8th October 2017 at Rougemont School.  \nhttp://www.gw6gw.co.uk/visitors.html
URL:https://www.gw4ezw.org.uk/event/welsh-radio-rally-2017/
END:VEVENT
END:VCALENDAR