BEGIN:VCALENDAR
VERSION:2.0
PRODID:-//Newport Amateur Radio Society - ECPv6.15.17.1//NONSGML v1.0//EN
CALSCALE:GREGORIAN
METHOD:PUBLISH
X-WR-CALNAME:Newport Amateur Radio Society
X-ORIGINAL-URL:https://www.gw4ezw.org.uk
X-WR-CALDESC:Events for Newport Amateur Radio Society
REFRESH-INTERVAL;VALUE=DURATION:PT1H
X-Robots-Tag:noindex
X-PUBLISHED-TTL:PT1H
BEGIN:VTIMEZONE
TZID:Europe/London
BEGIN:DAYLIGHT
TZOFFSETFROM:+0000
TZOFFSETTO:+0100
TZNAME:BST
DTSTART:20160327T010000
END:DAYLIGHT
BEGIN:STANDARD
TZOFFSETFROM:+0100
TZOFFSETTO:+0000
TZNAME:GMT
DTSTART:20161030T010000
END:STANDARD
BEGIN:DAYLIGHT
TZOFFSETFROM:+0000
TZOFFSETTO:+0100
TZNAME:BST
DTSTART:20170326T010000
END:DAYLIGHT
BEGIN:STANDARD
TZOFFSETFROM:+0100
TZOFFSETTO:+0000
TZNAME:GMT
DTSTART:20171029T010000
END:STANDARD
BEGIN:DAYLIGHT
TZOFFSETFROM:+0000
TZOFFSETTO:+0100
TZNAME:BST
DTSTART:20180325T010000
END:DAYLIGHT
BEGIN:STANDARD
TZOFFSETFROM:+0100
TZOFFSETTO:+0000
TZNAME:GMT
DTSTART:20181028T010000
END:STANDARD
END:VTIMEZONE
BEGIN:VEVENT
DTSTART;TZID=Europe/London:20170210T190000
DTEND;TZID=Europe/London:20170210T210000
DTSTAMP:20260420T152759
CREATED:20170130T163321Z
LAST-MODIFIED:20170130T163321Z
UID:1723-1486753200-1486760400@www.gw4ezw.org.uk
SUMMARY:JT65 demo evening
DESCRIPTION:GW4ogo (Steve) and MW0LGE (Richie) are putting on a JT65 demo evening. Covering all the basics\, from getting your radio ready\, setting up the pc\, software and sound levels\, to making your first contact and understanding the JT65 message flow.
URL:https://www.gw4ezw.org.uk/event/jt65-demo-evening/
LOCATION:Club House\, Tabernacle Congregational Chapel\, Rhiwderin\, Newport\, NP10 8RH\, United Kingdom
END:VEVENT
END:VCALENDAR