BEGIN:VCALENDAR
VERSION:2.0
PRODID:-//Newport Amateur Radio Society - ECPv6.15.17.1//NONSGML v1.0//EN
CALSCALE:GREGORIAN
METHOD:PUBLISH
X-ORIGINAL-URL:https://www.gw4ezw.org.uk
X-WR-CALDESC:Events for Newport Amateur Radio Society
REFRESH-INTERVAL;VALUE=DURATION:PT1H
X-Robots-Tag:noindex
X-PUBLISHED-TTL:PT1H
BEGIN:VTIMEZONE
TZID:Europe/London
BEGIN:DAYLIGHT
TZOFFSETFROM:+0000
TZOFFSETTO:+0100
TZNAME:BST
DTSTART:20160327T010000
END:DAYLIGHT
BEGIN:STANDARD
TZOFFSETFROM:+0100
TZOFFSETTO:+0000
TZNAME:GMT
DTSTART:20161030T010000
END:STANDARD
BEGIN:DAYLIGHT
TZOFFSETFROM:+0000
TZOFFSETTO:+0100
TZNAME:BST
DTSTART:20170326T010000
END:DAYLIGHT
BEGIN:STANDARD
TZOFFSETFROM:+0100
TZOFFSETTO:+0000
TZNAME:GMT
DTSTART:20171029T010000
END:STANDARD
BEGIN:DAYLIGHT
TZOFFSETFROM:+0000
TZOFFSETTO:+0100
TZNAME:BST
DTSTART:20180325T010000
END:DAYLIGHT
BEGIN:STANDARD
TZOFFSETFROM:+0100
TZOFFSETTO:+0000
TZNAME:GMT
DTSTART:20181028T010000
END:STANDARD
END:VTIMEZONE
BEGIN:VEVENT
DTSTART;TZID=Europe/London:20170109T190000
DTEND;TZID=Europe/London:20170109T210000
DTSTAMP:20260420T171317
CREATED:20161216T230830Z
LAST-MODIFIED:20170117T170201Z
UID:1497-1483988400-1483995600@www.gw4ezw.org.uk
SUMMARY:New Year Celebration 2017
DESCRIPTION:Our Christmas and New Year celebration held at the Toby Carvery\, Chepstow Road.
URL:https://www.gw4ezw.org.uk/event/new-year-celebration/
LOCATION:Toby Carvery Coldra\, Chepstow Road\, Newport\, NP19 9FL\, United Kingdom
END:VEVENT
END:VCALENDAR