BEGIN:VCALENDAR
VERSION:2.0
PRODID:-//Newport Amateur Radio Society - ECPv6.15.17.1//NONSGML v1.0//EN
CALSCALE:GREGORIAN
METHOD:PUBLISH
X-ORIGINAL-URL:https://www.gw4ezw.org.uk
X-WR-CALDESC:Events for Newport Amateur Radio Society
REFRESH-INTERVAL;VALUE=DURATION:PT1H
X-Robots-Tag:noindex
X-PUBLISHED-TTL:PT1H
BEGIN:VTIMEZONE
TZID:Europe/London
BEGIN:DAYLIGHT
TZOFFSETFROM:+0000
TZOFFSETTO:+0100
TZNAME:BST
DTSTART:20150329T010000
END:DAYLIGHT
BEGIN:STANDARD
TZOFFSETFROM:+0100
TZOFFSETTO:+0000
TZNAME:GMT
DTSTART:20151025T010000
END:STANDARD
BEGIN:DAYLIGHT
TZOFFSETFROM:+0000
TZOFFSETTO:+0100
TZNAME:BST
DTSTART:20160327T010000
END:DAYLIGHT
BEGIN:STANDARD
TZOFFSETFROM:+0100
TZOFFSETTO:+0000
TZNAME:GMT
DTSTART:20161030T010000
END:STANDARD
BEGIN:DAYLIGHT
TZOFFSETFROM:+0000
TZOFFSETTO:+0100
TZNAME:BST
DTSTART:20170326T010000
END:DAYLIGHT
BEGIN:STANDARD
TZOFFSETFROM:+0100
TZOFFSETTO:+0000
TZNAME:GMT
DTSTART:20171029T010000
END:STANDARD
END:VTIMEZONE
BEGIN:VEVENT
DTSTART;TZID=Europe/London:20161216T190000
DTEND;TZID=Europe/London:20161216T210000
DTSTAMP:20260420T184630
CREATED:20161107T192408Z
LAST-MODIFIED:20161107T192408Z
UID:78-1481914800-1481922000@www.gw4ezw.org.uk
SUMMARY:Christmas Fun and Raffle
DESCRIPTION:Christmas fun night at the club\, with a raffle and food !! Perhaps some music and dancing…. hehe.
URL:https://www.gw4ezw.org.uk/event/christmas-fun-and-raffle/
LOCATION:Club House\, Tabernacle Congregational Chapel\, Rhiwderin\, Newport\, NP10 8RH\, United Kingdom
END:VEVENT
END:VCALENDAR